BEGIN:VCALENDAR
VERSION:2.0
PRODID:-//Mill Creek Chamber of Commerce - ECPv6.15.20//NONSGML v1.0//EN
CALSCALE:GREGORIAN
METHOD:PUBLISH
X-WR-CALNAME:Mill Creek Chamber of Commerce
X-ORIGINAL-URL:https://millcreekchamber.com
X-WR-CALDESC:Events for Mill Creek Chamber of Commerce
REFRESH-INTERVAL;VALUE=DURATION:PT1H
X-Robots-Tag:noindex
X-PUBLISHED-TTL:PT1H
BEGIN:VTIMEZONE
TZID:America/Los_Angeles
BEGIN:DAYLIGHT
TZOFFSETFROM:-0800
TZOFFSETTO:-0700
TZNAME:PDT
DTSTART:20250309T100000
END:DAYLIGHT
BEGIN:STANDARD
TZOFFSETFROM:-0700
TZOFFSETTO:-0800
TZNAME:PST
DTSTART:20251102T090000
END:STANDARD
BEGIN:DAYLIGHT
TZOFFSETFROM:-0800
TZOFFSETTO:-0700
TZNAME:PDT
DTSTART:20260308T100000
END:DAYLIGHT
BEGIN:STANDARD
TZOFFSETFROM:-0700
TZOFFSETTO:-0800
TZNAME:PST
DTSTART:20261101T090000
END:STANDARD
BEGIN:DAYLIGHT
TZOFFSETFROM:-0800
TZOFFSETTO:-0700
TZNAME:PDT
DTSTART:20270314T100000
END:DAYLIGHT
BEGIN:STANDARD
TZOFFSETFROM:-0700
TZOFFSETTO:-0800
TZNAME:PST
DTSTART:20271107T090000
END:STANDARD
END:VTIMEZONE
BEGIN:VEVENT
DTSTART;TZID=America/Los_Angeles:20260423T110000
DTEND;TZID=America/Los_Angeles:20260423T220000
DTSTAMP:20260421T190934
CREATED:20260421T220910Z
LAST-MODIFIED:20260421T221051Z
UID:16660-1776942000-1776981600@millcreekchamber.com
SUMMARY:Dine Out For A Cause
DESCRIPTION:
URL:https://millcreekchamber.com/event/dine-out-for-a-cause/
LOCATION:La Palmera\, 15224 Main St #202\, Mill Creek\, WA\, 98012\, United States
CATEGORIES:Chamber Member Events,Community Events
ATTACH;FMTTYPE=image/png:https://millcreekchamber.com/wp-content/uploads/2026/04/Screenshot-2026-04-21-145337.png
GEO:47.8593738;-122.2209382
X-APPLE-STRUCTURED-LOCATION;VALUE=URI;X-ADDRESS=La Palmera 15224 Main St #202 Mill Creek WA 98012 United States;X-APPLE-RADIUS=500;X-TITLE=15224 Main St #202:geo:-122.2209382,47.8593738
END:VEVENT
END:VCALENDAR