BEGIN:VCALENDAR
VERSION:2.0
PRODID:-//Mill Creek Chamber of Commerce - ECPv6.15.20//NONSGML v1.0//EN
CALSCALE:GREGORIAN
METHOD:PUBLISH
X-WR-CALNAME:Mill Creek Chamber of Commerce
X-ORIGINAL-URL:https://millcreekchamber.com
X-WR-CALDESC:Events for Mill Creek Chamber of Commerce
REFRESH-INTERVAL;VALUE=DURATION:PT1H
X-Robots-Tag:noindex
X-PUBLISHED-TTL:PT1H
BEGIN:VTIMEZONE
TZID:America/Los_Angeles
BEGIN:DAYLIGHT
TZOFFSETFROM:-0800
TZOFFSETTO:-0700
TZNAME:PDT
DTSTART:20250309T100000
END:DAYLIGHT
BEGIN:STANDARD
TZOFFSETFROM:-0700
TZOFFSETTO:-0800
TZNAME:PST
DTSTART:20251102T090000
END:STANDARD
BEGIN:DAYLIGHT
TZOFFSETFROM:-0800
TZOFFSETTO:-0700
TZNAME:PDT
DTSTART:20260308T100000
END:DAYLIGHT
BEGIN:STANDARD
TZOFFSETFROM:-0700
TZOFFSETTO:-0800
TZNAME:PST
DTSTART:20261101T090000
END:STANDARD
BEGIN:DAYLIGHT
TZOFFSETFROM:-0800
TZOFFSETTO:-0700
TZNAME:PDT
DTSTART:20270314T100000
END:DAYLIGHT
BEGIN:STANDARD
TZOFFSETFROM:-0700
TZOFFSETTO:-0800
TZNAME:PST
DTSTART:20271107T090000
END:STANDARD
END:VTIMEZONE
BEGIN:VEVENT
DTSTART;TZID=America/Los_Angeles:20261008T073000
DTEND;TZID=America/Los_Angeles:20261008T090000
DTSTAMP:20260421T031304
CREATED:20260414T164926Z
LAST-MODIFIED:20260414T164926Z
UID:16615-1791444600-1791450000@millcreekchamber.com
SUMMARY:Chambers Building Relationships Breakfast
DESCRIPTION:Join us this October for a dynamic and collaborative Chamber Breakfast as we partner with the Bothell-Kenmore Chamber and the Mill Creek Chamber for a special morning of connection and growth.\nWe’ll kick off the morning with an engaging and practical session led by Antonia Semanskee of Ascendant Authority\, who will guide attendees through crafting a clear and compelling 30-second elevator pitch. You’ll also learn the 3-room strategy for effective networking\, giving you a simple and powerful framework to make the most of every event you attend.\nYou’ll leave with:• A 30-second elevator pitch that explains who you serve\, the problem your product solves\, and what changes for them afterwards• A clearer sense of who to talk to in any room• A simple way to join a group already chatting• Things to say beyond “what do you do?” That helps you build a conversation• Phrases to help you exit a conversation gracefully\nFollowing the session\, we’ll put those skills into action with dedicated networking time for the remainder of the breakfast. Connect with new contacts\, strengthen existing relationships\, and practice your pitch in a supportive and energetic environment.\nDon’t miss this opportunity to sharpen your story and expand your reach across three vibrant business communities.\nREGISTER NOW!\n\nAgenda7:30am: Registration\, Networking & Breakfast7:50am: Chamber Announcements and Welcome8:00am: Presentation and Door Prizes9:00am: Event concludes\n$18 Members | $23 Guests
URL:https://millcreekchamber.com/event/2026oct-chambers-building-relationships-breakfast/
LOCATION:Fairwinds Brittany Park\, 133rd Avenue Northeast\, Woodinville\, WA\, 98072\, United States
CATEGORIES:Chamber Member Events,Mill Creek Chamber Events,Networking
ATTACH;FMTTYPE=image/jpeg:https://millcreekchamber.com/wp-content/uploads/2026/04/joint.jpg
GEO:47.7517893;-122.1623951
X-APPLE-STRUCTURED-LOCATION;VALUE=URI;X-ADDRESS=Fairwinds Brittany Park 133rd Avenue Northeast Woodinville WA 98072 United States;X-APPLE-RADIUS=500;X-TITLE=133rd Avenue Northeast:geo:-122.1623951,47.7517893
END:VEVENT
END:VCALENDAR